BEGIN:VCALENDAR
VERSION:2.0
PRODID:-//Union Presbyterian Seminary - ECPv6.15.20//NONSGML v1.0//EN
CALSCALE:GREGORIAN
METHOD:PUBLISH
X-WR-CALNAME:Union Presbyterian Seminary
X-ORIGINAL-URL:https://www.upsem.edu
X-WR-CALDESC:Events for Union Presbyterian Seminary
REFRESH-INTERVAL;VALUE=DURATION:PT1H
X-Robots-Tag:noindex
X-PUBLISHED-TTL:PT1H
BEGIN:VTIMEZONE
TZID:America/New_York
BEGIN:DAYLIGHT
TZOFFSETFROM:-0500
TZOFFSETTO:-0400
TZNAME:EDT
DTSTART:20220313T070000
END:DAYLIGHT
BEGIN:STANDARD
TZOFFSETFROM:-0400
TZOFFSETTO:-0500
TZNAME:EST
DTSTART:20221106T060000
END:STANDARD
BEGIN:DAYLIGHT
TZOFFSETFROM:-0500
TZOFFSETTO:-0400
TZNAME:EDT
DTSTART:20230312T070000
END:DAYLIGHT
BEGIN:STANDARD
TZOFFSETFROM:-0400
TZOFFSETTO:-0500
TZNAME:EST
DTSTART:20231105T060000
END:STANDARD
BEGIN:DAYLIGHT
TZOFFSETFROM:-0500
TZOFFSETTO:-0400
TZNAME:EDT
DTSTART:20240310T070000
END:DAYLIGHT
BEGIN:STANDARD
TZOFFSETFROM:-0400
TZOFFSETTO:-0500
TZNAME:EST
DTSTART:20241103T060000
END:STANDARD
BEGIN:DAYLIGHT
TZOFFSETFROM:-0500
TZOFFSETTO:-0400
TZNAME:EDT
DTSTART:20250309T070000
END:DAYLIGHT
BEGIN:STANDARD
TZOFFSETFROM:-0400
TZOFFSETTO:-0500
TZNAME:EST
DTSTART:20251102T060000
END:STANDARD
BEGIN:DAYLIGHT
TZOFFSETFROM:-0500
TZOFFSETTO:-0400
TZNAME:EDT
DTSTART:20260308T070000
END:DAYLIGHT
BEGIN:STANDARD
TZOFFSETFROM:-0400
TZOFFSETTO:-0500
TZNAME:EST
DTSTART:20261101T060000
END:STANDARD
END:VTIMEZONE
BEGIN:VEVENT
DTSTART;TZID=America/New_York:20250129T190000
DTEND;TZID=America/New_York:20250129T203000
DTSTAMP:20260422T151531
CREATED:20240718T030111Z
LAST-MODIFIED:20240718T033541Z
UID:10000528-1738177200-1738182600@www.upsem.edu
SUMMARY:2025 African American Social Justice Preaching Series- Webinar
DESCRIPTION:
URL:https://www.upsem.edu/event/2025-african-american-social-justice-preaching-series-webinar/
LOCATION:Online webinar
CATEGORIES:CSJR
ORGANIZER;CN="Center for Social Justice & Reconciliation":MAILTO:emills@upsem.edu
END:VEVENT
BEGIN:VEVENT
DTSTART;TZID=America/New_York:20240416T190000
DTEND;TZID=America/New_York:20240416T200000
DTSTAMP:20260422T151531
CREATED:20230912T130455Z
LAST-MODIFIED:20230912T130455Z
UID:10000448-1713294000-1713297600@www.upsem.edu
SUMMARY:Just Talk/Talk Just - Clean Watar & Indigenous Justice Movements
DESCRIPTION:
URL:https://www.upsem.edu/event/just-talk-talk-just-clean-watar-indigenous-justice-movements/
LOCATION:Online webinar
CATEGORIES:CSJR,KGCCWL
ORGANIZER;CN="Center for Social Justice & Reconciliation":MAILTO:emills@upsem.edu
END:VEVENT
BEGIN:VEVENT
DTSTART;TZID=America/New_York:20240319T080000
DTEND;TZID=America/New_York:20240319T170000
DTSTAMP:20260422T151531
CREATED:20230912T130232Z
LAST-MODIFIED:20230912T130232Z
UID:10000447-1710835200-1710867600@www.upsem.edu
SUMMARY:Just Talk/Talk Just - Womanist Theopoetics
DESCRIPTION:
URL:https://www.upsem.edu/event/just-talk-talk-just-womanist-theopoetics/
LOCATION:Online webinar
CATEGORIES:CSJR,KGCCWL
ORGANIZER;CN="Center for Social Justice & Reconciliation":MAILTO:emills@upsem.edu
END:VEVENT
BEGIN:VEVENT
DTSTART;TZID=America/New_York:20240227T190000
DTEND;TZID=America/New_York:20240227T200000
DTSTAMP:20260422T151531
CREATED:20230912T130121Z
LAST-MODIFIED:20230912T130121Z
UID:10000446-1709060400-1709064000@www.upsem.edu
SUMMARY:Just Talk/Talk Just - Imagining a Just Society
DESCRIPTION:
URL:https://www.upsem.edu/event/just-talk-talk-just-imagining-a-just-society/
LOCATION:Online webinar
CATEGORIES:CSJR,KGCCWL
ORGANIZER;CN="Center for Social Justice & Reconciliation":MAILTO:emills@upsem.edu
END:VEVENT
BEGIN:VEVENT
DTSTART;TZID=America/New_York:20240215T190000
DTEND;TZID=America/New_York:20240215T200000
DTSTAMP:20260422T151531
CREATED:20230912T134917Z
LAST-MODIFIED:20230912T134917Z
UID:10000451-1708023600-1708027200@www.upsem.edu
SUMMARY:Dangerous Dialogues - Seeking Shalom: Activism
DESCRIPTION:
URL:https://www.upsem.edu/event/dangerous-dialogues-seeking-shalom-activism/
LOCATION:Online webinar
CATEGORIES:CSJR
ORGANIZER;CN="Center for Social Justice & Reconciliation":MAILTO:emills@upsem.edu
END:VEVENT
BEGIN:VEVENT
DTSTART;TZID=America/New_York:20240116T080000
DTEND;TZID=America/New_York:20240116T170000
DTSTAMP:20260422T151531
CREATED:20230912T125948Z
LAST-MODIFIED:20230912T125948Z
UID:10000445-1705392000-1705424400@www.upsem.edu
SUMMARY:Just Talk/Talk Just - Decentering Whiteness
DESCRIPTION:
URL:https://www.upsem.edu/event/just-talk-talk-just-decentering-whiteness/
LOCATION:Online webinar
CATEGORIES:CSJR,KGCCWL
ORGANIZER;CN="Center for Social Justice & Reconciliation":MAILTO:emills@upsem.edu
END:VEVENT
BEGIN:VEVENT
DTSTART;TZID=America/New_York:20231116T190000
DTEND;TZID=America/New_York:20231116T200000
DTSTAMP:20260422T151531
CREATED:20230912T134806Z
LAST-MODIFIED:20230912T134806Z
UID:10000450-1700161200-1700164800@www.upsem.edu
SUMMARY:Dangerous Dialogue- Seeking Shalom: Fighting for Atonement for Indigenous Peoples
DESCRIPTION:
URL:https://www.upsem.edu/event/dangerous-dialogue-seeking-shalom-fighting-for-atonement-for-indigenous-peoples/
LOCATION:Online webinar
CATEGORIES:CSJR
ORGANIZER;CN="Center for Social Justice & Reconciliation":MAILTO:emills@upsem.edu
END:VEVENT
END:VCALENDAR