BEGIN:VCALENDAR
VERSION:2.0
PRODID:-//Union Presbyterian Seminary - ECPv6.15.20//NONSGML v1.0//EN
CALSCALE:GREGORIAN
METHOD:PUBLISH
X-ORIGINAL-URL:https://www.upsem.edu
X-WR-CALDESC:Events for Union Presbyterian Seminary
REFRESH-INTERVAL;VALUE=DURATION:PT1H
X-Robots-Tag:noindex
X-PUBLISHED-TTL:PT1H
BEGIN:VTIMEZONE
TZID:America/New_York
BEGIN:DAYLIGHT
TZOFFSETFROM:-0500
TZOFFSETTO:-0400
TZNAME:EDT
DTSTART:20220313T070000
END:DAYLIGHT
BEGIN:STANDARD
TZOFFSETFROM:-0400
TZOFFSETTO:-0500
TZNAME:EST
DTSTART:20221106T060000
END:STANDARD
BEGIN:DAYLIGHT
TZOFFSETFROM:-0500
TZOFFSETTO:-0400
TZNAME:EDT
DTSTART:20230312T070000
END:DAYLIGHT
BEGIN:STANDARD
TZOFFSETFROM:-0400
TZOFFSETTO:-0500
TZNAME:EST
DTSTART:20231105T060000
END:STANDARD
BEGIN:DAYLIGHT
TZOFFSETFROM:-0500
TZOFFSETTO:-0400
TZNAME:EDT
DTSTART:20240310T070000
END:DAYLIGHT
BEGIN:STANDARD
TZOFFSETFROM:-0400
TZOFFSETTO:-0500
TZNAME:EST
DTSTART:20241103T060000
END:STANDARD
END:VTIMEZONE
BEGIN:VEVENT
DTSTART;TZID=America/New_York:20231206T114500
DTEND;TZID=America/New_York:20231206T133000
DTSTAMP:20260419T164559
CREATED:20231108T192328Z
LAST-MODIFIED:20231108T201127Z
UID:10000453-1701863100-1701869400@www.upsem.edu
SUMMARY:CBF Campus Day
DESCRIPTION:Join the CBFVA staff and Susan Blanchard for campus worship and community lunch. A time for prospective students and pastors to experience UPSem\, take a tour of campus\, and meet our Baptist students. Also\, this is a great opportunity for our students to network with pastors in the CBF VA ecosystem.  Please RSVP to sblanchard@upsem.edu
URL:https://www.upsem.edu/event/cbf-campus-day/
LOCATION:NC
END:VEVENT
END:VCALENDAR