BEGIN:VCALENDAR
VERSION:2.0
PRODID:-//Union Presbyterian Seminary - ECPv6.15.20//NONSGML v1.0//EN
CALSCALE:GREGORIAN
METHOD:PUBLISH
X-ORIGINAL-URL:https://www.upsem.edu
X-WR-CALDESC:Events for Union Presbyterian Seminary
REFRESH-INTERVAL;VALUE=DURATION:PT1H
X-Robots-Tag:noindex
X-PUBLISHED-TTL:PT1H
BEGIN:VTIMEZONE
TZID:America/New_York
BEGIN:DAYLIGHT
TZOFFSETFROM:-0500
TZOFFSETTO:-0400
TZNAME:EDT
DTSTART:20220313T070000
END:DAYLIGHT
BEGIN:STANDARD
TZOFFSETFROM:-0400
TZOFFSETTO:-0500
TZNAME:EST
DTSTART:20221106T060000
END:STANDARD
BEGIN:DAYLIGHT
TZOFFSETFROM:-0500
TZOFFSETTO:-0400
TZNAME:EDT
DTSTART:20230312T070000
END:DAYLIGHT
BEGIN:STANDARD
TZOFFSETFROM:-0400
TZOFFSETTO:-0500
TZNAME:EST
DTSTART:20231105T060000
END:STANDARD
BEGIN:DAYLIGHT
TZOFFSETFROM:-0500
TZOFFSETTO:-0400
TZNAME:EDT
DTSTART:20240310T070000
END:DAYLIGHT
BEGIN:STANDARD
TZOFFSETFROM:-0400
TZOFFSETTO:-0500
TZNAME:EST
DTSTART:20241103T060000
END:STANDARD
END:VTIMEZONE
BEGIN:VEVENT
DTSTART;TZID=America/New_York:20231113T130000
DTEND;TZID=America/New_York:20231117T113000
DTSTAMP:20260419T115757
CREATED:20230726T170453Z
LAST-MODIFIED:20231017T140858Z
UID:10000442-1699880400-1700220600@www.upsem.edu
SUMMARY:Interim/Transitional Ministry Education Week 1
DESCRIPTION:Registration is open for Interim/Transitional Ministry Education Week 1. \nThe date for this event will be November 13-17\, 2023. This will be an in-person gathering on the Richmond Campus of Union Presbyterian Seminary. \nClick here for more information or to start a registration. \nFor questions or more information\, contact Theda Wortman (twortman@upsem.edu).
URL:https://www.upsem.edu/event/interim-transitional-ministry-education-week-1/
LOCATION:NC
CATEGORIES:Leadership Institute
END:VEVENT
END:VCALENDAR